BEGIN:VCALENDAR
VERSION:2.0
PRODID:-//Painted Ladies Foundation - ECPv6.15.20//NONSGML v1.0//EN
CALSCALE:GREGORIAN
METHOD:PUBLISH
X-ORIGINAL-URL:https://paintedladiesfoundation.com
X-WR-CALDESC:Events for Painted Ladies Foundation
REFRESH-INTERVAL;VALUE=DURATION:PT1H
X-Robots-Tag:noindex
X-PUBLISHED-TTL:PT1H
BEGIN:VTIMEZONE
TZID:America/Los_Angeles
BEGIN:DAYLIGHT
TZOFFSETFROM:-0800
TZOFFSETTO:-0700
TZNAME:PDT
DTSTART:20240310T100000
END:DAYLIGHT
BEGIN:STANDARD
TZOFFSETFROM:-0700
TZOFFSETTO:-0800
TZNAME:PST
DTSTART:20241103T090000
END:STANDARD
BEGIN:DAYLIGHT
TZOFFSETFROM:-0800
TZOFFSETTO:-0700
TZNAME:PDT
DTSTART:20250309T100000
END:DAYLIGHT
BEGIN:STANDARD
TZOFFSETFROM:-0700
TZOFFSETTO:-0800
TZNAME:PST
DTSTART:20251102T090000
END:STANDARD
BEGIN:DAYLIGHT
TZOFFSETFROM:-0800
TZOFFSETTO:-0700
TZNAME:PDT
DTSTART:20260308T100000
END:DAYLIGHT
BEGIN:STANDARD
TZOFFSETFROM:-0700
TZOFFSETTO:-0800
TZNAME:PST
DTSTART:20261101T090000
END:STANDARD
END:VTIMEZONE
BEGIN:VEVENT
DTSTART;TZID=America/Los_Angeles:20250803T090000
DTEND;TZID=America/Los_Angeles:20250803T110000
DTSTAMP:20260424T031003
CREATED:20250722T141110Z
LAST-MODIFIED:20250722T142349Z
UID:418-1754211600-1754218800@paintedladiesfoundation.com
SUMMARY:Free Clinic - Introduction to Horses
DESCRIPTION:Painted Ladies Foundation presents: \n\n FREE Equine Healing Clinic! \n Sunday\, August 3rd | 9 AM – 11 AM\n Loomis Basin Horse Arena\n\n\nJoin the Painted Ladies Rodeo Performers for a special hands-on horse clinic. \n\n\n Learn to groom\, lead\, and ride\n Spend time with our gentle\, trusted performance horses\n Take home a special gift\n Perfect for kids\, teens\, and families — all ages welcome!\nMeet our extra special guest: Miracle Whip!\n\n\nCome feel the magic\, connect with horses\, and experience the powerful peace they bring. \n\n\n Free to attend!\n Sign up now and reserve your spot.\n\n\n\nPlease bring sun screen\, and closed toed shoes or boots.
URL:https://paintedladiesfoundation.com/event/free-clinic-introduction-to-horses-clinic/
LOCATION:Loomis Basin Arena\, 3550 Ong Pl\, Loomis\, CA\, 95650\, United States
ATTACH;FMTTYPE=image/jpeg:https://paintedladiesfoundation.com/wp-content/uploads/2025/07/6a784833-d825-4ccf-9176-94b88c106a9d.jpg
END:VEVENT
END:VCALENDAR