BEGIN:VCALENDAR
VERSION:2.0
PRODID:-//Painted Ladies Foundation - ECPv6.15.20//NONSGML v1.0//EN
CALSCALE:GREGORIAN
METHOD:PUBLISH
X-ORIGINAL-URL:https://paintedladiesfoundation.com
X-WR-CALDESC:Events for Painted Ladies Foundation
REFRESH-INTERVAL;VALUE=DURATION:PT1H
X-Robots-Tag:noindex
X-PUBLISHED-TTL:PT1H
BEGIN:VTIMEZONE
TZID:America/Los_Angeles
BEGIN:DAYLIGHT
TZOFFSETFROM:-0800
TZOFFSETTO:-0700
TZNAME:PDT
DTSTART:20250309T100000
END:DAYLIGHT
BEGIN:STANDARD
TZOFFSETFROM:-0700
TZOFFSETTO:-0800
TZNAME:PST
DTSTART:20251102T090000
END:STANDARD
BEGIN:DAYLIGHT
TZOFFSETFROM:-0800
TZOFFSETTO:-0700
TZNAME:PDT
DTSTART:20260308T100000
END:DAYLIGHT
BEGIN:STANDARD
TZOFFSETFROM:-0700
TZOFFSETTO:-0800
TZNAME:PST
DTSTART:20261101T090000
END:STANDARD
BEGIN:DAYLIGHT
TZOFFSETFROM:-0800
TZOFFSETTO:-0700
TZNAME:PDT
DTSTART:20270314T100000
END:DAYLIGHT
BEGIN:STANDARD
TZOFFSETFROM:-0700
TZOFFSETTO:-0800
TZNAME:PST
DTSTART:20271107T090000
END:STANDARD
END:VTIMEZONE
BEGIN:VTIMEZONE
TZID:America/Los_Angeles
BEGIN:DAYLIGHT
TZOFFSETFROM:-0800
TZOFFSETTO:-0700
TZNAME:PDT
DTSTART:20240310T100000
END:DAYLIGHT
BEGIN:STANDARD
TZOFFSETFROM:-0700
TZOFFSETTO:-0800
TZNAME:PST
DTSTART:20241103T090000
END:STANDARD
BEGIN:DAYLIGHT
TZOFFSETFROM:-0800
TZOFFSETTO:-0700
TZNAME:PDT
DTSTART:20250309T100000
END:DAYLIGHT
BEGIN:STANDARD
TZOFFSETFROM:-0700
TZOFFSETTO:-0800
TZNAME:PST
DTSTART:20251102T090000
END:STANDARD
BEGIN:DAYLIGHT
TZOFFSETFROM:-0800
TZOFFSETTO:-0700
TZNAME:PDT
DTSTART:20260308T100000
END:DAYLIGHT
BEGIN:STANDARD
TZOFFSETFROM:-0700
TZOFFSETTO:-0800
TZNAME:PST
DTSTART:20261101T090000
END:STANDARD
END:VTIMEZONE
BEGIN:VTIMEZONE
TZID:UTC
BEGIN:STANDARD
TZOFFSETFROM:+0000
TZOFFSETTO:+0000
TZNAME:UTC
DTSTART:20240101T000000
END:STANDARD
END:VTIMEZONE
BEGIN:VEVENT
DTSTART;TZID=America/Los_Angeles:20260419T100000
DTEND;TZID=America/Los_Angeles:20260419T120000
DTSTAMP:20260423T111520
CREATED:20260415T213749Z
LAST-MODIFIED:20260415T214207Z
UID:559-1776592800-1776600000@paintedladiesfoundation.com
SUMMARY:Introduction to Horses Free Clinic
DESCRIPTION:
URL:https://paintedladiesfoundation.com/event/introduction-to-horses-clinic/
END:VEVENT
BEGIN:VEVENT
DTSTART;TZID=America/Los_Angeles:20251108T160000
DTEND;TZID=America/Los_Angeles:20251108T220000
DTSTAMP:20260423T111520
CREATED:20250909T172125Z
LAST-MODIFIED:20250917T175803Z
UID:470-1762617600-1762639200@paintedladiesfoundation.com
SUMMARY:PAINTED LADIES FOUNDATION FUNDRAISER - Let’s celebrate the Miracle of Team Work together!
DESCRIPTION:🎉 BBQ Fundraiser & Barn Party – November 8th! 🎉 \nLet’s celebrate the Miracle of Team Work together!Presented by the Painted Ladies Foundation \nBring the whole family for a night of amazing food\, cold drinks\, and community fun—all while supporting a cause that changes lives through equine therapy. 🐴💜 \n✨ What’s Happening:👨‍👩‍👧‍👦 Family-Friendly Fun!🍹 Happy Hour (4–6 PM – FREE!)Kick things off with free happy hour & drink specials\, meet friends\, and enjoy a meet-and-greet with the Painted Ladies Rodeo Performers. \n🍽 BBQ Dinner at 6 PMYour ticket includes:✅ Delicious BBQ Dinner (Chicken & Tri-Tip + sides)✅ 1 Adult Drink Ticket \n📅 Date: Saturday\, November 8th📍 Location: 5220 Val Verde Road\, Loomis\, CA⏰ Time: Happy Hour 4–6 PM | Dinner at 6 PM \n💜 All proceeds benefit the Painted Ladies Foundation\, helping us continue to provide therapeutic equine experiences and support the Painted Ladies’ journey to the 2026 Tournament of Roses Parade 🌹🐎✨ \n🎟 Tickets on sale NOW – Don’t wait\, spots fill fast! PURCHASE TICKETS ✨ Come hungry\, leave inspired. Let’s celebrate the Miracle of Team Work together!
URL:https://paintedladiesfoundation.com/event/painted-ladies-foundation-fundraiser/
LOCATION:Larry Houghtby Ranch\, 5220 Val Verde Rd\, Loomis\, CA\, 95650\, United States
END:VEVENT
BEGIN:VEVENT
DTSTART;TZID=America/Los_Angeles:20250803T090000
DTEND;TZID=America/Los_Angeles:20250803T110000
DTSTAMP:20260423T111520
CREATED:20250722T141110Z
LAST-MODIFIED:20250722T142349Z
UID:418-1754211600-1754218800@paintedladiesfoundation.com
SUMMARY:Free Clinic - Introduction to Horses
DESCRIPTION:Painted Ladies Foundation presents: \n\n FREE Equine Healing Clinic! \n Sunday\, August 3rd | 9 AM – 11 AM\n Loomis Basin Horse Arena\n\n\nJoin the Painted Ladies Rodeo Performers for a special hands-on horse clinic. \n\n\n Learn to groom\, lead\, and ride\n Spend time with our gentle\, trusted performance horses\n Take home a special gift\n Perfect for kids\, teens\, and families — all ages welcome!\nMeet our extra special guest: Miracle Whip!\n\n\nCome feel the magic\, connect with horses\, and experience the powerful peace they bring. \n\n\n Free to attend!\n Sign up now and reserve your spot.\n\n\n\nPlease bring sun screen\, and closed toed shoes or boots.
URL:https://paintedladiesfoundation.com/event/free-clinic-introduction-to-horses-clinic/
LOCATION:Loomis Basin Arena\, 3550 Ong Pl\, Loomis\, CA\, 95650\, United States
ATTACH;FMTTYPE=image/jpeg:https://paintedladiesfoundation.com/wp-content/uploads/2025/07/6a784833-d825-4ccf-9176-94b88c106a9d.jpg
END:VEVENT
BEGIN:VEVENT
DTSTART;TZID=America/Los_Angeles:20250622T100000
DTEND;TZID=America/Los_Angeles:20250622T120000
DTSTAMP:20260423T111520
CREATED:20250530T043029Z
LAST-MODIFIED:20250609T144536Z
UID:365-1750586400-1750593600@paintedladiesfoundation.com
SUMMARY:FREE Clinic Introduction to Horses Clinic
DESCRIPTION:Join us for a 90-minute session to learn all things about the horse\, including the anatomy\, grooming\, proper care handling\, go through a lead line obstacle course\, saddle time and a take home craft. Sign up.
URL:https://paintedladiesfoundation.com/event/free-clinic-introduction-to-horses-clinic-trail-riding-2/
LOCATION:Loomis Basin Arena\, 3550 Ong Pl\, Loomis\, CA\, 95650\, United States
ATTACH;FMTTYPE=image/jpeg:https://paintedladiesfoundation.com/wp-content/uploads/2025/05/Clinic-June-22.jpeg
END:VEVENT
BEGIN:VEVENT
DTSTART;TZID=UTC:20250517T100000
DTEND;TZID=UTC:20250517T120000
DTSTAMP:20260423T111520
CREATED:20250503T042202Z
LAST-MODIFIED:20250503T053419Z
UID:322-1747476000-1747483200@paintedladiesfoundation.com
SUMMARY:FREE Clinic Introduction to Horses Clinic/Trail Riding
DESCRIPTION:Join us for a 90-minute session to learn all things about the horse\, including the anatomy\, grooming\, proper care handling\, go through a lead line obstacle course\, saddle time and a take home craft. Open to 10 Spots.  Sign up.
URL:https://paintedladiesfoundation.com/event/free-clinic-introduction-to-horses-clinic-trail-riding/
LOCATION:Loomis Basin Arena\, 3550 Ong Pl\, Loomis\, CA\, 95650\, United States
END:VEVENT
BEGIN:VEVENT
DTSTART;TZID=UTC:20250426T160000
DTEND;TZID=UTC:20250426T210000
DTSTAMP:20260423T111520
CREATED:20250222T032941Z
LAST-MODIFIED:20250225T055820Z
UID:260-1745683200-1745701200@paintedladiesfoundation.com
SUMMARY:Painted Ladies Foundation - BBQ Fundraiser & Barn Party
DESCRIPTION:BBQ Fundraiser & Barn PartyPresented by the Painted Ladies Foundation \nBring the whole family for an evening of great food\, drinks\, and community fun—all in support of a meaningful cause! The Painted Ladies Foundation invites you to our BBQ Fundraiser & Barn Party\, celebrating a fantastic year of entertaining events and horse therapy clinics. \n👨‍👩‍👧‍👦 Family-Friendly Event! \n ***** Purchase Tickets Here  ***** \n🍹 Happy Hour (4–6 PM) – FREE!Kick off the evening with happy hour and meet and greet! Enjoy drink specials\, mingle with friends\, and meet the Painted Ladies Rodeo Performers before dinner begins. \n🍽 BBQ Dinner at 6 PM🎟 Ticket Includes: \n\nDelicious BBQ dinner\n1 drink ticket\nFirst-come\, first-served seating\n\n🎟 Raffle Prizes!Take your chance at winning some fantastic raffle prizes while supporting our mission of helping grieving young adults and children through animal-assisted interactions. \n📅 Date: April 26th📍 Location: 5220 Val Verde Road Loomis\, CA 95650⏰ Time: Happy Hour 4–6 PM | Dinner at 6 PM \n🎟 Get your tickets now! \nAll proceeds go directly to the Painted Ladies Foundation to continue providing therapeutic equine experiences to those in need. \nWe can’t wait to celebrate with you! \n ***** Purchase Tickets Here  ***** \n 
URL:https://paintedladiesfoundation.com/event/painted-ladies-foundation-bbq-fundraiser-barn-party/
LOCATION:Larry Houghtby Ranch\, 5220 Val Verde Rd\, Loomis\, CA\, 95650\, United States
END:VEVENT
BEGIN:VEVENT
DTSTART;TZID=UTC:20250331T100000
DTEND;TZID=UTC:20250331T113000
DTSTAMP:20260423T111520
CREATED:20241206T094337Z
LAST-MODIFIED:20250215T103000Z
UID:69-1743415200-1743420600@paintedladiesfoundation.com
SUMMARY:Spring Clinic -  TBD
DESCRIPTION:Are you or your child currently or have suffered from trauma\, depression\, anxiety\, even stress?\nCome Heal your HEART  with Horses \nEntry to connect with a horse\, learn some basics\, make some new friends\, and heal your Heart!
URL:https://paintedladiesfoundation.com/event/spring-clinic-final-date-tbd/
LOCATION:Loomis Basin Arena\, 3550 Ong Pl\, Loomis\, CA\, 95650\, United States
END:VEVENT
BEGIN:VEVENT
DTSTART;TZID=UTC:20250101T120000
DTEND;TZID=UTC:20250101T130000
DTSTAMP:20260423T111520
CREATED:20241206T093430Z
LAST-MODIFIED:20241209T042658Z
UID:61-1735732800-1735736400@paintedladiesfoundation.com
SUMMARY:Donation of Roses to Retirement Home
DESCRIPTION:After the Painted Ladies Perform in the Tournemant of Roses Parade the live roses are donated to a local retirement home in Pasadena\, CA. \nThey are always so excited to see the horses and accept the beautiful live rose decorations.
URL:https://paintedladiesfoundation.com/event/donation-of-roses-to-retirement-home/
LOCATION:TBD\, Pasadena\, CA\, United States
END:VEVENT
END:VCALENDAR